BEGIN:VCALENDAR
VERSION:2.0
PRODID:-//G-Force Events - ECPv4.6.21//NONSGML v1.0//EN
CALSCALE:GREGORIAN
METHOD:PUBLISH
X-WR-CALNAME:G-Force Events
X-ORIGINAL-URL:https://gforceevents.com.au
X-WR-CALDESC:Events for G-Force Events
BEGIN:VEVENT
DTSTART;VALUE=DATE:20181001
DTEND;VALUE=DATE:20181002
DTSTAMP:20210224T032049
CREATED:20180717T163755Z
LAST-MODIFIED:20180815T233853Z
UID:995-1538352000-1538438399@gforceevents.com.au
SUMMARY:Phillip Island International 1 October
DESCRIPTION:The G-Force Race Experience is a half day event with education\, driving and riding all mixed in!  It’s a fantastic day on some of Australia’s premier race tracks! \n \nIn the Classroom: \nIn the classroom environment participants will complete approximately 45 minutes tuition based on: \n\nSafe driving techniques including awareness\, fatigue and attitudes.\nUndersteer and oversteer situations and the results of these.\nAccident avoidance techniques.\nVision and inputs for safe driving.\nWeight transfer and it’s effects on a vehicle.\nUse of passive and active safety systems in the modern vehicle.\nAdvanced driving techniques used by race drivers to improve lap times.\n\nOn the Skid Pan: \nActivation of the lessons learnt in the training module \nParticipants will drive on the wet skidpan with the G-Force instructors during an approximately 45 minute program completing: \n\nSafe driving techniques including brake and swerve car control.\nUndersteer and oversteer situations and the results of these.\nAccident avoidance techniques.\nVision and inputs for safe driving.\nWeight transfer and it’s effects on a vehicle.\nAdvanced driving techniques used by race drivers to improve lap times.\nCar control when the vehicle is sideways in a fun and controlled way.\n\nThe Hot Lap Rides: \nParticipants complete high octane rides with a experienced driver. Race suits and helmets on and strapped in for the Ride of a Lifetime. \nThese are the experiences that live in the hearts and minds of your VIP customers. \nChoice of Ride Cars – Porsche GT3 Carrera Cup cars: Premium Ride Event \n\nThe G-Force Porsche are factory built Carrera Cup race cars with a sequential six speed gear box\, race tuned six cylinder\, 8500rpm\, 400HP boxer engine.\n\n  \nChoice of Ride Cars – Toyota 86 Race cars: Fully race prepared \n\nThe G-Force Toyota 86 race cars are race prepared rear wheel drive\, with two litre\, four cylinder 7000rpm\, 200HP engines.\n\n
URL:https://gforceevents.com.au/event/phillip-island-international/
LOCATION:Back Beach Road\, Phillip Island\, Victoria\, 3922\, Australia
GEO:-38.4966544;145.2166199
X-APPLE-STRUCTURED-LOCATION;VALUE=URI;X-ADDRESS=Back Beach Road Phillip Island Victoria 3922 Australia;X-APPLE-RADIUS=500;X-TITLE=Back Beach Road:geo:145.2166199,-38.4966544
CATEGORIES:Public Events
ATTACH;FMTTYPE=image/jpeg:https://gforceevents.com.au/wp-content/uploads/sites/57/2018/07/17JS96946.jpg
ORGANIZER;CN="Gforce%20Event%20Experience":MAILTO:enquiries@gforcemotorsport.com.au
END:VEVENT
END:VCALENDAR